BEGIN:VCALENDAR
VERSION:2.0
PRODID:-//Accredited Safety Solutions - ECPv6.15.20//NONSGML v1.0//EN
CALSCALE:GREGORIAN
METHOD:PUBLISH
X-ORIGINAL-URL:https://www.accredited-safety.com
X-WR-CALDESC:Events for Accredited Safety Solutions
REFRESH-INTERVAL;VALUE=DURATION:PT1H
X-Robots-Tag:noindex
X-PUBLISHED-TTL:PT1H
BEGIN:VTIMEZONE
TZID:America/Indiana/Indianapolis
BEGIN:DAYLIGHT
TZOFFSETFROM:-0500
TZOFFSETTO:-0400
TZNAME:EDT
DTSTART:20230312T070000
END:DAYLIGHT
BEGIN:STANDARD
TZOFFSETFROM:-0400
TZOFFSETTO:-0500
TZNAME:EST
DTSTART:20231105T060000
END:STANDARD
BEGIN:DAYLIGHT
TZOFFSETFROM:-0500
TZOFFSETTO:-0400
TZNAME:EDT
DTSTART:20240310T070000
END:DAYLIGHT
BEGIN:STANDARD
TZOFFSETFROM:-0400
TZOFFSETTO:-0500
TZNAME:EST
DTSTART:20241103T060000
END:STANDARD
BEGIN:DAYLIGHT
TZOFFSETFROM:-0500
TZOFFSETTO:-0400
TZNAME:EDT
DTSTART:20250309T070000
END:DAYLIGHT
BEGIN:STANDARD
TZOFFSETFROM:-0400
TZOFFSETTO:-0500
TZNAME:EST
DTSTART:20251102T060000
END:STANDARD
END:VTIMEZONE
BEGIN:VEVENT
DTSTART;TZID=America/Indiana/Indianapolis:20240729T073000
DTEND;TZID=America/Indiana/Indianapolis:20240731T183000
DTSTAMP:20260422T140622
CREATED:20240301T020512Z
LAST-MODIFIED:20240514T152733Z
UID:10000043-1722238200-1722450600@www.accredited-safety.com
SUMMARY:Tower Crane Operator Class
DESCRIPTION:Class Fees Per Candidate\nInclude all classroom materials\, instruction\, practical exam(s)\, & practice time on our crane.\n***Recertification candidates will not take practical(s). \nProcessing fee includes all communication and application submission with NCCCO. \nAs of January 1\, 2024 candidates will take all crane certification tests on a computer. Accredited Safety Solutions\, Inc. will supply all classroom materials and computers for testing.
URL:https://www.accredited-safety.com/event/tower-crane-operator-class-2/
LOCATION:Hendricks Co. Fairgrounds\, 1900 E Main St\, Danville\, IN\, 46122
CATEGORIES:Tower Crane Operator
ATTACH;FMTTYPE=image/jpeg:https://www.accredited-safety.com/wp-content/uploads/2023/02/classes-tower_crane.jpg
ORGANIZER;CN="Robert":MAILTO:holly@accredited-safety.com
END:VEVENT
BEGIN:VEVENT
DTSTART;TZID=America/Indiana/Indianapolis:20240730T073000
DTEND;TZID=America/Indiana/Indianapolis:20240731T183000
DTSTAMP:20260422T140622
CREATED:20240229T200426Z
LAST-MODIFIED:20240709T184655Z
UID:10000034-1722324600-1722450600@www.accredited-safety.com
SUMMARY:Articulating Boom Loader Operator Class
DESCRIPTION:Class Fees Per Candidate\nInclude all classroom materials\, instruction\, practical exam(s)\, & practice time on our crane.\n***Recertification candidates will not take practical(s). \nProcessing fee includes all communication and application submission with NCCCO. \nAs of January 1\, 2024 candidates will take all crane certification tests on a computer. Accredited Safety Solutions\, Inc. will supply all classroom materials and computers for testing.
URL:https://www.accredited-safety.com/event/articulating-boom-loader-operator-class-august-2024/
LOCATION:Hendricks Co. Fairgrounds\, 1900 E Main St\, Danville\, IN\, 46122
CATEGORIES:Articulating Crane Operator
ATTACH;FMTTYPE=image/jpeg:https://www.accredited-safety.com/wp-content/uploads/2023/02/classes-articulating_crane.jpg
ORGANIZER;CN="Robert":MAILTO:holly@accredited-safety.com
END:VEVENT
BEGIN:VEVENT
DTSTART;VALUE=DATE:20240731
DTEND;VALUE=DATE:20240802
DTSTAMP:20260422T140622
CREATED:20240301T030524Z
LAST-MODIFIED:20240613T132457Z
UID:10000047-1722384000-1722556799@www.accredited-safety.com
SUMMARY:Rigger Level 1 Class
DESCRIPTION:Class Fees Per Candidate\nInclude all classroom materials\, instruction\, practical exam(s)\, & practice time on our crane.\n***Recertification candidates will not take practical(s). \nProcessing fee includes all communication and application submission with NCCCO. \nAs of January 1\, 2024 candidates will take all crane certification tests on a computer. Accredited Safety Solutions\, Inc. will supply all classroom materials and computers for testing.
URL:https://www.accredited-safety.com/event/rigger-level-one/
LOCATION:Hendricks Co. Fairgrounds\, 1900 E Main St\, Danville\, IN\, 46122
CATEGORIES:Rigger Level 1
ATTACH;FMTTYPE=image/jpeg:https://www.accredited-safety.com/wp-content/uploads/2023/03/rigger-featured-image.jpeg
ORGANIZER;CN="Robert":MAILTO:holly@accredited-safety.com
END:VEVENT
END:VCALENDAR